BEGIN:VCALENDAR
VERSION:2.0
PRODID:www.pantheonsorbonne.fr
X-WR-TIMEZONE:Europe/Paris
BEGIN:VTIMEZONE
TZID:Europe/Paris
X-LIC-LOCATION:Europe/Paris
BEGIN:DAYLIGHT
TZNAME:CEST
TZOFFSETFROM:+0100
TZOFFSETTO:+0200
DTSTART:20250330T010000
END:DAYLIGHT
BEGIN:DAYLIGHT
TZNAME:CEST
TZOFFSETFROM:+0100
TZOFFSETTO:+0200
DTSTART:20260329T010000
END:DAYLIGHT
BEGIN:STANDARD
TZNAME:CET
TZOFFSETFROM:+0200
TZOFFSETTO:+0100
DTSTART:20251026T010000
END:STANDARD
BEGIN:STANDARD
TZNAME:CET
TZOFFSETFROM:+0200
TZOFFSETTO:+0100
DTSTART:20261025T010000
END:STANDARD
END:VTIMEZONE
BEGIN:VEVENT
UID:f5c5e4ef66859abc3e0d7509dfdb934a
DTSTART;TZID=Europe/Paris:20260316T090000
SEQUENCE:0
TRANSP:OPAQUE
URL:https://www.pantheonsorbonne.fr//evenements
SUMMARY:Enseigner à Paris 1 Panthéon-Sorbonne en 2026
CLASS:PUBLIC
DESCRIPTION:Salle 1\, centre Panthéon
X-ALT-DESC;FMTTYPE=text/html:Salle 1\, centre Panthéon\n\n
DTSTAMP:20260312T135905Z
END:VEVENT
END:VCALENDAR