BEGIN:VCALENDAR
VERSION:2.0
PRODID:marcbloch.pantheonsorbonne.fr
X-WR-TIMEZONE:Europe/Paris
BEGIN:VTIMEZONE
TZID:Europe/Paris
X-LIC-LOCATION:Europe/Paris
BEGIN:DAYLIGHT
TZNAME:CEST
TZOFFSETFROM:+0100
TZOFFSETTO:+0200
DTSTART:20250330T010000
END:DAYLIGHT
BEGIN:DAYLIGHT
TZNAME:CEST
TZOFFSETFROM:+0100
TZOFFSETTO:+0200
DTSTART:20260329T010000
END:DAYLIGHT
BEGIN:STANDARD
TZNAME:CET
TZOFFSETFROM:+0200
TZOFFSETTO:+0100
DTSTART:20251026T010000
END:STANDARD
BEGIN:STANDARD
TZNAME:CET
TZOFFSETFROM:+0200
TZOFFSETTO:+0100
DTSTART:20261025T010000
END:STANDARD
END:VTIMEZONE
BEGIN:VEVENT
UID:c4a4704d33eea6c48a923e910f7b10c5
DTSTART;TZID=Europe/Paris:20260325T180000
SEQUENCE:0
TRANSP:OPAQUE
URL:https://marcbloch.pantheonsorbonne.fr/evenements
SUMMARY:Marc Bloch et ses livres\, table-ronde 
CLASS:PUBLIC
DESCRIPTION:Amphithéâtre Bachelard\, Centre Sorbonne\, 14 rue Cujas\, 750
 05 Paris
X-ALT-DESC;FMTTYPE=text/html:Amphithéâtre Bachelard\, Centre Sorbonne\, 1
 4 rue Cujas\, 75005 Paris\n\n
DTSTAMP:20260313T132915Z
END:VEVENT
END:VCALENDAR